BEGIN:VCALENDAR
VERSION:2.0
PRODID:-//Gecko New Media/umbraco iCal Export//EN
METHOD:PUBLISH
BEGIN:VTIMEZONE
TZID:(GMT) Greenwich Mean Time . Dublin\, Edinburgh\, Lisbon\, London
TZOFFSETFROM:+0000
TZOFFSETTO:+0000
END:VTIMEZONE
BEGIN:VEVENT
SUMMARY:private booking
LOCATION:
DTSTART:20120131T00000
DTEND:20120131T00000
CLASS:PUBLIC
END:VEVENT
BEGIN:VEVENT
SUMMARY:test
LOCATION:
DTSTART:20120423T00000
DTEND:00
CLASS:PUBLIC
END:VEVENT
BEGIN:VEVENT
SUMMARY:private booking (1)
LOCATION:
DTSTART:20120701T00000
DTEND:20120701T00000
CLASS:PUBLIC
END:VEVENT
BEGIN:VEVENT
SUMMARY:Stockport Star Party
LOCATION:
DTSTART:20180519T190000
DTEND:20180519T235500
CLASS:PUBLIC
END:VEVENT
BEGIN:VEVENT
SUMMARY:Test event
LOCATION:
DTSTART:20200530T200000
DTEND:00
CLASS:PUBLIC
END:VEVENT
END:VCALENDAR